BEGIN:VCALENDAR
VERSION:2.0
PRODID:EVENTFROG//EVENTGROUP//ICAL
BEGIN:VEVENT
UID:20260425T011500Z-7452357197621652590@eventfrog.ch
DTSTAMP:20260425T011500Z
DTSTART:20260521T163000Z
DTEND:20260521T190000Z
SUMMARY:Trauma - ein Thema, das uns alle betrifft
DESCRIPTION:Daniela Ramaioli zeigt, wie du Entwicklungs- und Bindungs-Trauma verstehst und deine Beziehungsfähigkeit erweiterst.\n\nhttps://eventfrog.ch/de/p/gesundheit-spiritualitaet/gesundheit-wohlbefinden/trauma-ein-thema-das-uns-alle-betrifft-7452357197621652590.html
LOCATION:Schwellhof, 5611 Anglikon
GEO:47.366127;8.256460
URL:https://eventfrog.ch/de/p/gesundheit-spiritualitaet/gesundheit-wohlbefinden/trauma-ein-thema-das-uns-alle-betrifft-7452357197621652590.html
END:VEVENT
END:VCALENDAR