BEGIN:VCALENDAR
VERSION:2.0
PRODID:EVENTFROG//EVENTGROUP//ICAL
BEGIN:VEVENT
UID:20260425T023012Z-7452391904866507693@eventfrog.ch
DTSTAMP:20260425T023012Z
DTSTART:20260424T160000Z
SUMMARY:SAELEEN BOUVAR / TRANSTRONICA  Walkin With Stardust
DESCRIPTION:WALKING WITH STARDUST versteht sich als kollektiver Akt des Erinnerns – als ein Hören, das Spuren aufnimmt und mit dem wortwörtlich gegen das Vergessen angegangen wird.\n\nhttps://eventfrog.ch/de/p/kunst-ausstellungen/ausstellung/saeleen-bouvar-transtronica-walkin-with-stardust-7452391904866507693.html
LOCATION:Kampnagel, Internationale Kulturfabrik
GEO:53.583863;10.020338
URL:https://eventfrog.ch/de/p/kunst-ausstellungen/ausstellung/saeleen-bouvar-transtronica-walkin-with-stardust-7452391904866507693.html
END:VEVENT
BEGIN:VEVENT
UID:20260425T023012Z-7452391974231911732@eventfrog.ch
DTSTAMP:20260425T023012Z
DTSTART:20260425T160000Z
SUMMARY:SAELEEN BOUVAR / TRANSTRONICA  Walkin With Stardust
DESCRIPTION:WALKING WITH STARDUST versteht sich als kollektiver Akt des Erinnerns – als ein Hören, das Spuren aufnimmt und mit dem wortwörtlich gegen das Vergessen angegangen wird.\n\nhttps://eventfrog.ch/de/p/kunst-ausstellungen/ausstellung/saeleen-bouvar-transtronica-walkin-with-stardust-7452391974231911732.html
LOCATION:Kampnagel, Internationale Kulturfabrik
GEO:53.583863;10.020338
URL:https://eventfrog.ch/de/p/kunst-ausstellungen/ausstellung/saeleen-bouvar-transtronica-walkin-with-stardust-7452391974231911732.html
END:VEVENT
END:VCALENDAR