BEGIN:VCALENDAR
VERSION:2.0
PRODID:EVENTFROG//EVENTGROUP//ICAL
BEGIN:VEVENT
UID:20260424T072132Z-7452835033423862106@eventfrog.ch
DTSTAMP:20260424T072132Z
DTSTART:20260503T120000Z
DTEND:20260503T140000Z
SUMMARY:Plitsch Platsch forever!
DESCRIPTION:Plitsch Platsch forever!\n\nhttps://eventfrog.ch/de/p/freizeit-ausfluege/plitsch-platsch-forever-7452835033423862106.html
LOCATION:Kino Roxy
GEO:47.565019;9.374795
URL:https://eventfrog.ch/de/p/freizeit-ausfluege/plitsch-platsch-forever-7452835033423862106.html
END:VEVENT
BEGIN:VEVENT
UID:20260424T072132Z-7452835035835586908@eventfrog.ch
DTSTAMP:20260424T072132Z
DTSTART:20260509T120000Z
DTEND:20260509T140000Z
SUMMARY:Plitsch Platsch forever!
DESCRIPTION:Plitsch Platsch forever!\n\nhttps://eventfrog.ch/de/p/freizeit-ausfluege/plitsch-platsch-forever-7452835035835586908.html
LOCATION:Kino Roxy
GEO:47.565019;9.374795
URL:https://eventfrog.ch/de/p/freizeit-ausfluege/plitsch-platsch-forever-7452835035835586908.html
END:VEVENT
END:VCALENDAR