BEGIN:VCALENDAR
VERSION:2.0
PRODID:EVENTFROG//EVENTGROUP//ICAL
BEGIN:VEVENT
UID:20260424T063639Z-7440143872502574668@eventfrog.ch
DTSTAMP:20260424T063639Z
DTSTART:20260425T150000Z
DTEND:20260425T193000Z
SUMMARY:Handpan Workshop & Dinner
DESCRIPTION:Workshop für Anfänger mit Abendessen.\nWir werden auf D-Kurd/D-Amara Handpan spielen. Wenn du eine hast, bring sie gerne mit (und auch den Handpan-Ständer, wenn du einen brauchst).\n\nhttps://eventfrog.ch/de/p/kurse-seminare/musik-tanz/handpan-workshop-dinner-7440143872502574668.html
LOCATION:GZ Oerlikon Atelier UG
GEO:47.407797;8.545748
URL:https://eventfrog.ch/de/p/kurse-seminare/musik-tanz/handpan-workshop-dinner-7440143872502574668.html
END:VEVENT
BEGIN:VEVENT
UID:20260424T063639Z-7453178432882495909@eventfrog.ch
DTSTAMP:20260424T063639Z
DTSTART:20260516T150000Z
DTEND:20260516T193000Z
SUMMARY:Handpan Workshop & Dinner
DESCRIPTION:Workshop für Anfänger mit Abendessen.\nWir werden auf D-Kurd/D-Amara Handpan spielen. Wenn du eine hast, bring sie gerne mit (und auch den Handpan-Ständer, wenn du einen brauchst).\n\nhttps://eventfrog.ch/en/p/courses-seminars/music-dance/handpan-workshop-dinner-7453178432882495909.html
LOCATION:Zürcher Gemeinschaftszentren GZ Oerlikon
GEO:47.407797;8.545748
URL:https://eventfrog.ch/en/p/courses-seminars/music-dance/handpan-workshop-dinner-7453178432882495909.html
END:VEVENT
BEGIN:VEVENT
UID:20260424T063639Z-7453179718029813672@eventfrog.ch
DTSTAMP:20260424T063639Z
DTSTART:20260620T150000Z
DTEND:20260620T193000Z
SUMMARY:Handpan Workshop & Dinner
DESCRIPTION:Workshop für Anfänger mit Abendessen.\nWir werden auf D-Kurd/D-Amara Handpan spielen. Wenn du eine hast, bring sie gerne mit (und auch den Handpan-Ständer, wenn du einen brauchst).\n\nhttps://eventfrog.ch/en/p/courses-seminars/music-dance/handpan-workshop-dinner-7453179718029813672.html
LOCATION:Zürcher Gemeinschaftszentren GZ Oerlikon
GEO:47.407797;8.545748
URL:https://eventfrog.ch/en/p/courses-seminars/music-dance/handpan-workshop-dinner-7453179718029813672.html
END:VEVENT
END:VCALENDAR