BEGIN:VCALENDAR
VERSION:2.0
PRODID:EVENTFROG//EVENTGROUP//ICAL
BEGIN:VEVENT
UID:20260425T021233Z-7453340100203659368@eventfrog.ch
DTSTAMP:20260425T021233Z
DTSTART:20260503T080000Z
DTEND:20260503T083000Z
SUMMARY:Freddy?s Geburi
DESCRIPTION:DerClown Freddy verzaubert sein Publikum mit viel Humor, Fantasie und schöne Momenten.\n\nhttps://eventfrog.ch/de/p/kinderveranstaltungen/familienveranstaltungen/freddy-s-geburi-7453340100203659368.html
LOCATION:Theater 111
GEO:47.430367;9.392565
URL:https://eventfrog.ch/de/p/kinderveranstaltungen/familienveranstaltungen/freddy-s-geburi-7453340100203659368.html
END:VEVENT
BEGIN:VEVENT
UID:20260425T021233Z-7453340268302987433@eventfrog.ch
DTSTAMP:20260425T021233Z
DTSTART:20260503T130000Z
DTEND:20260503T133000Z
SUMMARY:Freddy?s Geburi
DESCRIPTION:DerClown Freddy verzaubert sein Publikum mit viel Humor, Fantasie und schöne Momenten.\n\nhttps://eventfrog.ch/de/p/kinderveranstaltungen/familienveranstaltungen/freddy-s-geburi-7453340268302987433.html
LOCATION:Theater 111
GEO:47.430367;9.392565
URL:https://eventfrog.ch/de/p/kinderveranstaltungen/familienveranstaltungen/freddy-s-geburi-7453340268302987433.html
END:VEVENT
END:VCALENDAR