BEGIN:VCALENDAR
VERSION:2.0
PRODID:EVENTFROG//EVENTGROUP//ICAL
BEGIN:VEVENT
UID:20260425T172814Z-7453563486725006766@eventfrog.ch
DTSTAMP:20260425T172814Z
DTSTART:20260603T220000Z
DTEND:20260630T215900Z
SUMMARY:Frauenfeld als Hauptstadt der Eidgenossenschaft
DESCRIPTION:Frauenfeld als Hauptstadt der Eidgenossenschaft\n\nhttps://eventfrog.ch/de/p/wissenschaft-und-technik/frauenfeld-als-hauptstadt-der-eidgenossenschaft-7453563486725006766.html
LOCATION:Staatsarchiv Thurgau
GEO:47.559071;8.900483
URL:https://eventfrog.ch/de/p/wissenschaft-und-technik/frauenfeld-als-hauptstadt-der-eidgenossenschaft-7453563486725006766.html
END:VEVENT
BEGIN:VEVENT
UID:20260425T172814Z-7453563486917944752@eventfrog.ch
DTSTAMP:20260425T172814Z
DTSTART:20260604T080000Z
DTEND:20260630T215900Z
SUMMARY:Frauenfeld als Hauptstadt der Eidgenossenschaft
DESCRIPTION:Frauenfeld als Hauptstadt der Eidgenossenschaft\n\nhttps://eventfrog.ch/de/p/wissenschaft-und-technik/frauenfeld-als-hauptstadt-der-eidgenossenschaft-7453563486917944752.html
LOCATION:Staatsarchiv Thurgau
GEO:47.559071;8.900483
URL:https://eventfrog.ch/de/p/wissenschaft-und-technik/frauenfeld-als-hauptstadt-der-eidgenossenschaft-7453563486917944752.html
END:VEVENT
BEGIN:VEVENT
UID:20260425T172814Z-7453563487127659954@eventfrog.ch
DTSTAMP:20260425T172814Z
DTSTART:20260611T103000Z
DTEND:20260611T110000Z
SUMMARY:Frauenfeld als Hauptstadt der Eidgenossenschaft
DESCRIPTION:Frauenfeld als Hauptstadt der Eidgenossenschaft\n\nhttps://eventfrog.ch/de/p/wissenschaft-und-technik/frauenfeld-als-hauptstadt-der-eidgenossenschaft-7453563487127659954.html
LOCATION:Staatsarchiv Thurgau
GEO:47.559071;8.900483
URL:https://eventfrog.ch/de/p/wissenschaft-und-technik/frauenfeld-als-hauptstadt-der-eidgenossenschaft-7453563487127659954.html
END:VEVENT
BEGIN:VEVENT
UID:20260425T172814Z-7453563487341569460@eventfrog.ch
DTSTAMP:20260425T172814Z
DTSTART:20260616T153000Z
DTEND:20260616T161500Z
SUMMARY:Frauenfeld als Hauptstadt der Eidgenossenschaft
DESCRIPTION:Frauenfeld als Hauptstadt der Eidgenossenschaft\n\nhttps://eventfrog.ch/de/p/wissenschaft-und-technik/frauenfeld-als-hauptstadt-der-eidgenossenschaft-7453563487341569460.html
LOCATION:Staatsarchiv Thurgau
GEO:47.559071;8.900483
URL:https://eventfrog.ch/de/p/wissenschaft-und-technik/frauenfeld-als-hauptstadt-der-eidgenossenschaft-7453563487341569460.html
END:VEVENT
BEGIN:VEVENT
UID:20260425T172814Z-7453563490009146939@eventfrog.ch
DTSTAMP:20260425T172814Z
DTSTART:20260630T153000Z
DTEND:20260630T160000Z
SUMMARY:Frauenfeld als Hauptstadt der Eidgenossenschaft
DESCRIPTION:Frauenfeld als Hauptstadt der Eidgenossenschaft\n\nhttps://eventfrog.ch/de/p/wissenschaft-und-technik/frauenfeld-als-hauptstadt-der-eidgenossenschaft-7453563490009146939.html
LOCATION:Staatsarchiv Thurgau
GEO:47.559071;8.900483
URL:https://eventfrog.ch/de/p/wissenschaft-und-technik/frauenfeld-als-hauptstadt-der-eidgenossenschaft-7453563490009146939.html
END:VEVENT
END:VCALENDAR