BEGIN:VCALENDAR
VERSION:2.0
PRODID:EVENTFROG//EVENTGROUP//ICAL
BEGIN:VEVENT
UID:20260426T041316Z-7453781365454048475@eventfrog.ch
DTSTAMP:20260426T041316Z
DTSTART:20260604T173000Z
DTEND:20260604T190000Z
SUMMARY:Meditation – 5-wöchiger Gratis-Workshop
DESCRIPTION:Meditation – 5-wöchiger Gratis-Workshop\n\nLerne einfache Meditationstechniken für mehr innere Ruhe, Freude und Klarheit.\nMit bewusstem Atmen, Konzentration und stiller Meditation – in einer entspannten\n\nhttps://eventfrog.ch/de/p/gesundheit-spiritualitaet/spiritualitaet/meditation-5-woechiger-gratis-workshop-7453781365454048475.html
LOCATION:Sri Chinmoy Meditations-Center
GEO:47.418049;8.505008
URL:https://eventfrog.ch/de/p/gesundheit-spiritualitaet/spiritualitaet/meditation-5-woechiger-gratis-workshop-7453781365454048475.html
END:VEVENT
BEGIN:VEVENT
UID:20260426T041316Z-7453781399897675768@eventfrog.ch
DTSTAMP:20260426T041316Z
DTSTART:20260611T173000Z
DTEND:20260611T190000Z
SUMMARY:Meditation – 5-wöchiger Gratis-Workshop
DESCRIPTION:Meditation – 5-wöchiger Gratis-Workshop\n\nLerne einfache Meditationstechniken für mehr innere Ruhe, Freude und Klarheit.\nMit bewusstem Atmen, Konzentration und stiller Meditation – in einer entspannten\n\nhttps://eventfrog.ch/de/p/gesundheit-spiritualitaet/spiritualitaet/meditation-5-woechiger-gratis-workshop-7453781399897675768.html
LOCATION:Sri Chinmoy Meditations-Center
GEO:47.418049;8.505008
URL:https://eventfrog.ch/de/p/gesundheit-spiritualitaet/spiritualitaet/meditation-5-woechiger-gratis-workshop-7453781399897675768.html
END:VEVENT
BEGIN:VEVENT
UID:20260426T041316Z-7453781400019310600@eventfrog.ch
DTSTAMP:20260426T041316Z
DTSTART:20260618T173000Z
DTEND:20260618T190000Z
SUMMARY:Meditation – 5-wöchiger Gratis-Workshop
DESCRIPTION:Meditation – 5-wöchiger Gratis-Workshop\n\nLerne einfache Meditationstechniken für mehr innere Ruhe, Freude und Klarheit.\nMit bewusstem Atmen, Konzentration und stiller Meditation – in einer entspannten\n\nhttps://eventfrog.ch/de/p/gesundheit-spiritualitaet/spiritualitaet/meditation-5-woechiger-gratis-workshop-7453781400019310600.html
LOCATION:Sri Chinmoy Meditations-Center
GEO:47.418049;8.505008
URL:https://eventfrog.ch/de/p/gesundheit-spiritualitaet/spiritualitaet/meditation-5-woechiger-gratis-workshop-7453781400019310600.html
END:VEVENT
BEGIN:VEVENT
UID:20260426T041316Z-7453781400149334081@eventfrog.ch
DTSTAMP:20260426T041316Z
DTSTART:20260625T173000Z
DTEND:20260625T190000Z
SUMMARY:Meditation – 5-wöchiger Gratis-Workshop
DESCRIPTION:Meditation – 5-wöchiger Gratis-Workshop\n\nLerne einfache Meditationstechniken für mehr innere Ruhe, Freude und Klarheit.\nMit bewusstem Atmen, Konzentration und stiller Meditation – in einer entspannten\n\nhttps://eventfrog.ch/de/p/gesundheit-spiritualitaet/spiritualitaet/meditation-5-woechiger-gratis-workshop-7453781400149334081.html
LOCATION:Sri Chinmoy Meditations-Center
GEO:47.418049;8.505008
URL:https://eventfrog.ch/de/p/gesundheit-spiritualitaet/spiritualitaet/meditation-5-woechiger-gratis-workshop-7453781400149334081.html
END:VEVENT
BEGIN:VEVENT
UID:20260426T041316Z-7453781400279357526@eventfrog.ch
DTSTAMP:20260426T041316Z
DTSTART:20260702T173000Z
DTEND:20260702T190000Z
SUMMARY:Meditation – 5-wöchiger Gratis-Workshop
DESCRIPTION:Meditation – 5-wöchiger Gratis-Workshop\n\nLerne einfache Meditationstechniken für mehr innere Ruhe, Freude und Klarheit.\nMit bewusstem Atmen, Konzentration und stiller Meditation – in einer entspannten\n\nhttps://eventfrog.ch/de/p/gesundheit-spiritualitaet/spiritualitaet/meditation-5-woechiger-gratis-workshop-7453781400279357526.html
LOCATION:Sri Chinmoy Meditations-Center
GEO:47.418049;8.505008
URL:https://eventfrog.ch/de/p/gesundheit-spiritualitaet/spiritualitaet/meditation-5-woechiger-gratis-workshop-7453781400279357526.html
END:VEVENT
END:VCALENDAR