BEGIN:VCALENDAR
VERSION:2.0
PRODID:EVENTFROG//EVENTGROUP//ICAL
BEGIN:VEVENT
UID:20260426T021209Z-7453925790020829423@eventfrog.ch
DTSTAMP:20260426T021209Z
DTSTART:20260425T214013Z
SUMMARY:Wellenlänge: Herzfrequenz
DESCRIPTION:Wunschkonzert für jede Beziehungslage\n\nhttps://eventfrog.ch/de/p/theater-buehne/wellenlaenge-herzfrequenz-7453925790020829423.html
LOCATION:Zimmer-Theater Ariane
GEO:47.508887;8.723156
URL:https://eventfrog.ch/de/p/theater-buehne/wellenlaenge-herzfrequenz-7453925790020829423.html
END:VEVENT
BEGIN:VEVENT
UID:20260426T021209Z-7453925792726155525@eventfrog.ch
DTSTAMP:20260426T021209Z
DTSTART:20260425T214013Z
SUMMARY:Wellenlänge: Herzfrequenz
DESCRIPTION:Wunschkonzert für jede Beziehungslage\n\nhttps://eventfrog.ch/de/p/theater-buehne/wellenlaenge-herzfrequenz-7453925792726155525.html
LOCATION:Zimmer-Theater Ariane
GEO:47.508887;8.723156
URL:https://eventfrog.ch/de/p/theater-buehne/wellenlaenge-herzfrequenz-7453925792726155525.html
END:VEVENT
BEGIN:VEVENT
UID:20260426T021209Z-7453925787365834650@eventfrog.ch
DTSTAMP:20260426T021209Z
DTSTART:20260605T180000Z
SUMMARY:Wellenlänge: Herzfrequenz
DESCRIPTION:Wunschkonzert für jede Beziehungslage\n\nhttps://eventfrog.ch/de/p/theater-buehne/wellenlaenge-herzfrequenz-7453925787365834650.html
LOCATION:Zimmer-Theater Ariane
GEO:47.508887;8.723156
URL:https://eventfrog.ch/de/p/theater-buehne/wellenlaenge-herzfrequenz-7453925787365834650.html
END:VEVENT
END:VCALENDAR