BEGIN:VCALENDAR
VERSION:2.0
PRODID:EVENTFROG//EVENT//ICAL
BEGIN:VEVENT
UID:20260419T231925Z-7312486857685648091@eventfrog.ch
DTSTAMP:20260419T231925Z
DTSTART:20260422T110000Z
DTEND:20260422T120000Z
SUMMARY:Mittwochsweiterbildung
DESCRIPTION:Mittwochsweiterbildung Privatklinik Meiringen\nPostgraduate Weiterbildung\n\nhttps://eventfrog.ch/de/p/gesundheit-spiritualitaet/gesundheit-wohlbefinden/mittwochsweiterbildung-7312486857685648091.html
LOCATION:Willigen
GEO:46.717759;8.192222
URL:https://eventfrog.ch/de/p/gesundheit-spiritualitaet/gesundheit-wohlbefinden/mittwochsweiterbildung-7312486857685648091.html
END:VEVENT
END:VCALENDAR