BEGIN:VCALENDAR
VERSION:2.0
PRODID:EVENTFROG//EVENT//ICAL
BEGIN:VEVENT
UID:20260419T163406Z-7400882972004512965@eventfrog.ch
DTSTAMP:20260419T163406Z
DTSTART:20260421T160000Z
DTEND:20260421T200000Z
SUMMARY:ADAC Motorrad Kurven-Training 3
DESCRIPTION:Auf dem Weg zur tadellosen Fahrt!\n\nhttps://eventfrog.ch/de/p/kurse-seminare/coaching/adac-motorrad-kurven-training-3-7400882972004512965.html
LOCATION:ADAC Fahrsicherheitszentrum Grevenbroich
GEO:51.083287;6.551566
URL:https://eventfrog.ch/de/p/kurse-seminare/coaching/adac-motorrad-kurven-training-3-7400882972004512965.html
END:VEVENT
END:VCALENDAR