BEGIN:VCALENDAR
VERSION:2.0
PRODID:EVENTFROG//EVENT//ICAL
BEGIN:VEVENT
UID:20260425T160821Z-7400884995047336022@eventfrog.ch
DTSTAMP:20260425T160821Z
DTSTART:20260426T063000Z
DTEND:20260426T153000Z
SUMMARY:ADAC Pkw-Training „young Drivers only” (Level 1)
DESCRIPTION:Ein fahraktives Event*, das bei Berufsschülern, Abiturienten, Praktikanten und Auszubildenden mit Sicherheit gut ankommt!\n\nhttps://eventfrog.ch/de/p/kurse-seminare/coaching/adac-pkw-training-young-drivers-only-level-1-7400884995047336022.html
LOCATION:ADAC Fahrsicherheitszentrum Grevenbroich
GEO:51.083287;6.551566
URL:https://eventfrog.ch/de/p/kurse-seminare/coaching/adac-pkw-training-young-drivers-only-level-1-7400884995047336022.html
END:VEVENT
END:VCALENDAR