BEGIN:VCALENDAR
VERSION:2.0
PRODID:EVENTFROG//EVENT//ICAL
BEGIN:VEVENT
UID:20260419T233850Z-7407553092261000182@eventfrog.ch
DTSTAMP:20260419T233850Z
DTSTART:20260510T110000Z
DTEND:20260510T173000Z
SUMMARY:Jack Goldstein  Führung
DESCRIPTION:Jack Goldstein  Führung\n\nhttps://eventfrog.ch/de/p/diverses/jack-goldstein-fuehrung-7407553092261000182.html
LOCATION:Kunst Museum  Beim Stadthaus
GEO:47.501502;8.730397
URL:https://eventfrog.ch/de/p/diverses/jack-goldstein-fuehrung-7407553092261000182.html
END:VEVENT
END:VCALENDAR