BEGIN:VCALENDAR
VERSION:2.0
PRODID:EVENTFROG//EVENT//ICAL
BEGIN:VEVENT
UID:20260424T063613Z-7413532818695797240@eventfrog.ch
DTSTAMP:20260424T063613Z
DTSTART:20260507T170000Z
DTEND:20260507T180000Z
SUMMARY:Vom Start bis ins Orchester
DESCRIPTION:Zu hören sind die Bläser- und Streicherensembles, gefolgt vom Orchester 442. Das Programm spannt den Bogen vom Ensemble-Beginn zum grossen Sinfonieorchester.\n\nhttps://eventfrog.ch/de/p/kinderveranstaltungen/konzert/vom-start-bis-ins-orchester-7413532818695797240.html
LOCATION:Kronenmattsaal
GEO:47.539205;7.573987
URL:https://eventfrog.ch/de/p/kinderveranstaltungen/konzert/vom-start-bis-ins-orchester-7413532818695797240.html
END:VEVENT
END:VCALENDAR