BEGIN:VCALENDAR
VERSION:2.0
PRODID:EVENTFROG//EVENT//ICAL
BEGIN:VEVENT
UID:20260419T213448Z-7414943413768816863@eventfrog.ch
DTSTAMP:20260419T213448Z
DTSTART:20260508T160000Z
DTEND:20260508T190000Z
SUMMARY:Camper & Vanlife Event Messe
DESCRIPTION:Vom 8. bis 10. Mai 2026 zeigt die Camper & Vanlife Messe am Jagdschloss Springe mobile Reise- und Outdoor-Innovationen.\n\nhttps://eventfrog.ch/de/p/messen/messe/camper-vanlife-event-messe-7414943413768816863.html
LOCATION:Jagdschloss Springe - Niedersächsische Landesforsten
GEO:52.188995;9.573487
URL:https://eventfrog.ch/de/p/messen/messe/camper-vanlife-event-messe-7414943413768816863.html
END:VEVENT
END:VCALENDAR