BEGIN:VCALENDAR
VERSION:2.0
PRODID:EVENTFROG//EVENT//ICAL
BEGIN:VEVENT
UID:20260425T160822Z-7416227371605343504@eventfrog.ch
DTSTAMP:20260425T160822Z
DTSTART:20260426T120000Z
DTEND:20260426T150000Z
SUMMARY:Gipsgießen Workshop am Sonntag - Gestalte deine eigene Deko
DESCRIPTION:Gestalte in entspannter Atmosphäre deine eigene Deko aus Gips. Lerne Gipsgießen, Gravurtechnik und kreative Farbgestaltung kennen und erschaffe einzigartige Unikate ganz nach deinem Stil.\n\nhttps://eventfrog.ch/de/p/kurse-seminare/freizeit-hobby/gipsgiessen-workshop-am-sonntag-gestalte-deine-eigene-deko-7416227371605343504.html
LOCATION:FestWerk Design
GEO:53.193726;10.425820
URL:https://eventfrog.ch/de/p/kurse-seminare/freizeit-hobby/gipsgiessen-workshop-am-sonntag-gestalte-deine-eigene-deko-7416227371605343504.html
END:VEVENT
END:VCALENDAR