BEGIN:VCALENDAR
VERSION:2.0
PRODID:EVENTFROG//EVENT//ICAL
BEGIN:VEVENT
UID:20260419T200230Z-7416527292938068998@eventfrog.ch
DTSTAMP:20260419T200230Z
DTSTART:20260419T110000Z
DTEND:20260419T160000Z
SUMMARY:Realismus und Symbolismus von Ralf Vieweg
DESCRIPTION:Die Ausstellung zeigt symbolistische Gemälde mit brillanten Farben, vielfältigen Motiven und harmonischer Darstellung von Mensch und Tier.\n\nhttps://eventfrog.ch/de/p/kunst-ausstellungen/ausstellung/realismus-und-symbolismus-von-ralf-vieweg-7416527292938068998.html
LOCATION:Neustadt bei Coburg
GEO:50.328660;11.108400
URL:https://eventfrog.ch/de/p/kunst-ausstellungen/ausstellung/realismus-und-symbolismus-von-ralf-vieweg-7416527292938068998.html
END:VEVENT
END:VCALENDAR