BEGIN:VCALENDAR
VERSION:2.0
PRODID:EVENTFROG//EVENT//ICAL
BEGIN:VEVENT
UID:20260419T144416Z-7420116360930323347@eventfrog.ch
DTSTAMP:20260419T144416Z
DTSTART:20260604T220000Z
DTEND:20260605T220000Z
SUMMARY:Landestreffen 2026
DESCRIPTION:Landestreffen 2026 – Landesverband der Gehörlosen Baden-Württemberg e.V.\n2026 veranstaltet der Landesverband der Gehörlosen Baden-Württemberg e.V. erstmals ein großes Landestreffen am Bodensee.\n\nhttps://eventfrog.ch/de/p/diverses/landestreffen-2026-7420116360930323347.html
LOCATION:Irishalle
GEO:47.628813;9.540707
URL:https://eventfrog.ch/de/p/diverses/landestreffen-2026-7420116360930323347.html
END:VEVENT
END:VCALENDAR