BEGIN:VCALENDAR
VERSION:2.0
PRODID:EVENTFROG//EVENT//ICAL
BEGIN:VEVENT
UID:20260420T012407Z-7420507599433392510@eventfrog.ch
DTSTAMP:20260420T012407Z
DTSTART:20260424T180000Z
DTEND:20260424T210000Z
SUMMARY:OLPE - MAMMA MIA - ABBA TOUR PARTYMOTTO
DESCRIPTION:MAMMA MIA - ABBA auf DEUTSCHLAND-TOUR PARTYMOTTO - Mitsing Konzert\n\nhttps://eventfrog.ch/de/p/partys/sonstige-partys/olpe-mamma-mia-abba-tour-partymotto-7420507599433392510.html
LOCATION:BIERBRUNNEN
GEO:51.028813;7.843787
URL:https://eventfrog.ch/de/p/partys/sonstige-partys/olpe-mamma-mia-abba-tour-partymotto-7420507599433392510.html
END:VEVENT
END:VCALENDAR