BEGIN:VCALENDAR
VERSION:2.0
PRODID:EVENTFROG//EVENT//ICAL
BEGIN:VEVENT
UID:20260425T025135Z-7420510028971423509@eventfrog.ch
DTSTAMP:20260425T025135Z
DTSTART:20260425T170000Z
DTEND:20260425T200000Z
SUMMARY:NABBURG - MAMMA MIA - ABBA TOUR PARTYMOTTO
DESCRIPTION:MAMMA MIA - ABBA auf DEUTSCHLAND-TOUR PARTYMOTTO - Mitsing Konzert\n\nhttps://eventfrog.ch/de/p/partys/sonstige-partys/nabburg-mamma-mia-abba-tour-partymotto-7420510028971423509.html
LOCATION:PEARLS
GEO:49.456313;12.197101
URL:https://eventfrog.ch/de/p/partys/sonstige-partys/nabburg-mamma-mia-abba-tour-partymotto-7420510028971423509.html
END:VEVENT
END:VCALENDAR