BEGIN:VCALENDAR
VERSION:2.0
PRODID:EVENTFROG//EVENT//ICAL
BEGIN:VEVENT
UID:20260419T200230Z-7420842221526585860@eventfrog.ch
DTSTAMP:20260419T200230Z
DTSTART:20260425T050000Z
DTEND:20260425T140000Z
SUMMARY:Flohmarkt in Mengen am Festplatz
DESCRIPTION:Flohmarkt mit Schmuck, Kleidung und Haushaltswaren am Samstag 7-16 Uhr \n\nhttps://eventfrog.ch/de/p/maerkte/flohmarkt/flohmarkt-in-mengen-am-festplatz-7420842221526585860.html
LOCATION:Mengen Festplatz
GEO:48.046865;9.323290
URL:https://eventfrog.ch/de/p/maerkte/flohmarkt/flohmarkt-in-mengen-am-festplatz-7420842221526585860.html
END:VEVENT
END:VCALENDAR