BEGIN:VCALENDAR
VERSION:2.0
PRODID:EVENTFROG//EVENT//ICAL
BEGIN:VEVENT
UID:20260424T064917Z-7420890129189838828@eventfrog.ch
DTSTAMP:20260424T064917Z
DTSTART:20260507T160000Z
DTEND:20260507T213000Z
SUMMARY:SSVT Grill Abend
DESCRIPTION:SSVT Grill Abend\n\nhttps://eventfrog.ch/de/p/essen-trinken/ssvt-grill-abend-7420890129189838828.html
LOCATION:HXE-B1
GEO:47.407473;8.506409
URL:https://eventfrog.ch/de/p/essen-trinken/ssvt-grill-abend-7420890129189838828.html
END:VEVENT
END:VCALENDAR