BEGIN:VCALENDAR
VERSION:2.0
PRODID:EVENTFROG//EVENT//ICAL
BEGIN:VEVENT
UID:20260425T160843Z-7425566273080151388@eventfrog.ch
DTSTAMP:20260425T160843Z
DTSTART:20260426T063000Z
DTEND:20260426T153000Z
SUMMARY:ADAC Motorrad Intensiv-Training
DESCRIPTION:Trainieren Sie mit diesem ADAC Intensivtraining für mehr Fahrsicherheit auf zwei Rädern.\n\nhttps://eventfrog.ch/de/p/kurse-seminare/coaching/adac-motorrad-intensiv-training-7425566273080151388.html
LOCATION:ADAC Fahrsicherheitszentrum Grevenbroich
GEO:51.083287;6.551566
URL:https://eventfrog.ch/de/p/kurse-seminare/coaching/adac-motorrad-intensiv-training-7425566273080151388.html
END:VEVENT
END:VCALENDAR