BEGIN:VCALENDAR
VERSION:2.0
PRODID:EVENTFROG//EVENT//ICAL
BEGIN:VEVENT
UID:20260419T200138Z-7429834275300611421@eventfrog.ch
DTSTAMP:20260419T200138Z
DTSTART:20260927T080000Z
DTEND:20260927T150000Z
SUMMARY:Flohmarkt in Mengen am Festplatz
DESCRIPTION:Flohmarkt mit Schmuck, Kleidung und Haushaltswaren am Samstag 7-16 Uhr \n\nhttps://eventfrog.ch/de/p/maerkte/flohmarkt/flohmarkt-in-mengen-am-festplatz-7429834275300611421.html
LOCATION:Mengen Festplatz
GEO:48.046865;9.323290
URL:https://eventfrog.ch/de/p/maerkte/flohmarkt/flohmarkt-in-mengen-am-festplatz-7429834275300611421.html
END:VEVENT
END:VCALENDAR