BEGIN:VCALENDAR
VERSION:2.0
PRODID:EVENTFROG//EVENT//ICAL
BEGIN:VEVENT
UID:20260425T154254Z-7430325030200804936@eventfrog.ch
DTSTAMP:20260425T154254Z
DTSTART:20260920T083000Z
DTEND:20260920T153000Z
SUMMARY:offenes Waldhaus
DESCRIPTION:Die Wirtschaft zum "offenen Waldhaus " lädt Personen von nah und fern zum geselligen Zusammensein ein. Der Anlass findet bei jeder Witterung statt.\n\nhttps://eventfrog.ch/de/p/essen-trinken/offenes-waldhaus-7430325030200804936.html
LOCATION:Waldhaus Riniken
GEO:47.494557;8.173634
URL:https://eventfrog.ch/de/p/essen-trinken/offenes-waldhaus-7430325030200804936.html
END:VEVENT
END:VCALENDAR