BEGIN:VCALENDAR
VERSION:2.0
PRODID:EVENTFROG//EVENT//ICAL
BEGIN:VEVENT
UID:20260426T000952Z-7430985066040302572@eventfrog.ch
DTSTAMP:20260426T000952Z
DTSTART:20260426T140000Z
DTEND:20260426T163000Z
SUMMARY:Aus dem Ruder gelaufen
DESCRIPTION:Eine Sketch Revue zwischen Wahn und Sinn\n\nhttps://eventfrog.ch/de/p/theater-buehne/theater/aus-dem-ruder-gelaufen-7430985066040302572.html
LOCATION:Aula Otto Hahn Schule
GEO:52.415702;9.429637
URL:https://eventfrog.ch/de/p/theater-buehne/theater/aus-dem-ruder-gelaufen-7430985066040302572.html
END:VEVENT
END:VCALENDAR