BEGIN:VCALENDAR
VERSION:2.0
PRODID:EVENTFROG//EVENT//ICAL
BEGIN:VEVENT
UID:20260419T233852Z-7434733487985264278@eventfrog.ch
DTSTAMP:20260419T233852Z
DTSTART:20260515T170000Z
DTEND:20260515T210000Z
SUMMARY:Queer Treff
DESCRIPTION:Queer Treff\n\nhttps://eventfrog.ch/de/p/diverses/queer-treff-7434733487985264278.html
LOCATION:wilsch - queer Winterthur
GEO:47.499280;8.731780
URL:https://eventfrog.ch/de/p/diverses/queer-treff-7434733487985264278.html
END:VEVENT
END:VCALENDAR