BEGIN:VCALENDAR
VERSION:2.0
PRODID:EVENTFROG//EVENT//ICAL
BEGIN:VEVENT
UID:20260419T233851Z-7434892471144868757@eventfrog.ch
DTSTAMP:20260419T233851Z
DTSTART:20260503T170000Z
SUMMARY:Barocke Pracht mit Pauken und Trompeten
DESCRIPTION:Tickets ab 22 Euro\nKarten sind im Vorverkauf über reservix zu erwerben.\n\ninfo@karlsruher-barockensemble.de\nhttps://karlsruher-barockensemble.de/ \n\n\nhttps://eventfrog.ch/de/p/klassik-opern/klassik/barocke-pracht-mit-pauken-und-trompeten-7434892471144868757.html
LOCATION:Residenzschloss Rastatt
GEO:48.858135;8.204679
URL:https://eventfrog.ch/de/p/klassik-opern/klassik/barocke-pracht-mit-pauken-und-trompeten-7434892471144868757.html
END:VEVENT
END:VCALENDAR