BEGIN:VCALENDAR
VERSION:2.0
PRODID:EVENTFROG//EVENT//ICAL
BEGIN:VEVENT
UID:20260419T181207Z-7435635067718770736@eventfrog.ch
DTSTAMP:20260419T181207Z
DTSTART:20260620T140000Z
DTEND:20260620T150000Z
SUMMARY:Karl, zieh den Rock aus
DESCRIPTION:Auf unterhaltsame Weise werden sowohl aus Sicht der Kinder als auch aus Sicht von Zero, der keine gesellschaftliche Prägung hat, vorherrschende Rollenmuster hinterfragt.\n\nhttps://eventfrog.ch/de/p/kinderveranstaltungen/kindertheater/karl-zieh-den-rock-aus-7435635067718770736.html
LOCATION:Theater Jaro
GEO:52.471759;13.307754
URL:https://eventfrog.ch/de/p/kinderveranstaltungen/kindertheater/karl-zieh-den-rock-aus-7435635067718770736.html
END:VEVENT
END:VCALENDAR