BEGIN:VCALENDAR
VERSION:2.0
PRODID:EVENTFROG//EVENT//ICAL
BEGIN:VEVENT
UID:20260426T004215Z-7436750260939051761@eventfrog.ch
DTSTAMP:20260426T004215Z
DTSTART:20260426T150000Z
SUMMARY:Matti Klein Soul Trio live at Alte Papierfabrik Greiz
DESCRIPTION:Das bekannte Matti Klein Soul Trio aus Berlin mit ihrer unnachahmlichen Mischung aus Jazz, Funk und Soul einen Gig live erleben - Groove-Kunst für alle Musikfans!\n\nhttps://eventfrog.ch/de/p/konzerte/jazz-blues/matti-klein-soul-trio-live-at-alte-papierfabrik-greiz-7436750260939051761.html
LOCATION:Alte Papierfabrik
GEO:51.224336;6.907162
URL:https://eventfrog.ch/de/p/konzerte/jazz-blues/matti-klein-soul-trio-live-at-alte-papierfabrik-greiz-7436750260939051761.html
END:VEVENT
END:VCALENDAR