BEGIN:VCALENDAR
VERSION:2.0
PRODID:EVENTFROG//EVENT//ICAL
BEGIN:VEVENT
UID:20260425T123303Z-7437537400190980947@eventfrog.ch
DTSTAMP:20260425T123303Z
DTSTART:20261022T150000Z
DTEND:20261025T150000Z
SUMMARY:Kunst Natur Retreat im Wald
DESCRIPTION:Kunst und Natur verschmelzen zu einem langen Wochenende voller Entdeckungen:\nkreative Workshops, Naturführung,  Kunstinstallation, Sauna und Entschleunigung.\n\n\nhttps://eventfrog.ch/de/p/kurse-seminare/sonstige-kurse-seminare/kunst-natur-retreat-im-wald-7437537400190980947.html
LOCATION:Haus im Wald
GEO:53.024932;11.450713
URL:https://eventfrog.ch/de/p/kurse-seminare/sonstige-kurse-seminare/kunst-natur-retreat-im-wald-7437537400190980947.html
END:VEVENT
END:VCALENDAR