BEGIN:VCALENDAR
VERSION:2.0
PRODID:EVENTFROG//EVENT//ICAL
BEGIN:VEVENT
UID:20260424T163902Z-7437617106458251780@eventfrog.ch
DTSTAMP:20260424T163902Z
DTSTART:20260425T080000Z
DTEND:20260425T120000Z
SUMMARY:Garagen-Flomarkt
DESCRIPTION:Garagenflohmarkt in Degerschlacht, Reutlingen bietet Kleidung, Kindersachen, Spielzeug und Haushaltswaren für Familien und Sammler.\n\nhttps://eventfrog.ch/de/p/maerkte/flohmarkt/garagen-flomarkt-7437617106458251780.html
LOCATION:Degerschlacht
GEO:48.522359;9.175341
URL:https://eventfrog.ch/de/p/maerkte/flohmarkt/garagen-flomarkt-7437617106458251780.html
END:VEVENT
END:VCALENDAR