BEGIN:VCALENDAR
VERSION:2.0
PRODID:EVENTFROG//EVENT//ICAL
BEGIN:VEVENT
UID:20260426T022817Z-7437635465065315278@eventfrog.ch
DTSTAMP:20260426T022817Z
DTSTART:20260515T180000Z
DTEND:20260515T224500Z
SUMMARY:Kurzfilmnacht Winterthur
DESCRIPTION:Kurzfilmnacht Winterthur\n\nhttps://eventfrog.ch/de/p/freizeit-ausfluege/kurzfilmnacht-winterthur-7437635465065315278.html
LOCATION:Kino Kiwi Loge
GEO:47.498632;8.731463
URL:https://eventfrog.ch/de/p/freizeit-ausfluege/kurzfilmnacht-winterthur-7437635465065315278.html
END:VEVENT
END:VCALENDAR