BEGIN:VCALENDAR
VERSION:2.0
PRODID:EVENTFROG//EVENT//ICAL
BEGIN:VEVENT
UID:20260419T183338Z-7439593625892160110@eventfrog.ch
DTSTAMP:20260419T183338Z
DTSTART:20260422T160000Z
DTEND:20260422T200000Z
SUMMARY:Bazaar Bizarr
DESCRIPTION:Bazaar Bizarr bietet Secondhand, Workshops und DJ-Sounds als nachhaltiges Urban-Event.\n\nhttps://eventfrog.ch/de/p/maerkte/flohmarkt/bazaar-bizarr-7439593625892160110.html
LOCATION:Steel Factory
GEO:51.532858;7.665658
URL:https://eventfrog.ch/de/p/maerkte/flohmarkt/bazaar-bizarr-7439593625892160110.html
END:VEVENT
END:VCALENDAR