BEGIN:VCALENDAR
VERSION:2.0
PRODID:EVENTFROG//EVENT//ICAL
BEGIN:VEVENT
UID:20260419T233848Z-7439625324705410712@eventfrog.ch
DTSTAMP:20260419T233848Z
DTSTART:20260503T150000Z
DTEND:20260503T170000Z
SUMMARY:Mozart in Kirchheimbolanden
DESCRIPTION:Benefizkonzert zum Erhalt der Paulskirche\n\nhttps://eventfrog.ch/de/p/klassik-opern/klassik/mozart-in-kirchheimbolanden-7439625324705410712.html
LOCATION:Paulskirche
GEO:49.666843;8.009962
URL:https://eventfrog.ch/de/p/klassik-opern/klassik/mozart-in-kirchheimbolanden-7439625324705410712.html
END:VEVENT
END:VCALENDAR