BEGIN:VCALENDAR
VERSION:2.0
PRODID:EVENTFROG//EVENT//ICAL
BEGIN:VEVENT
UID:20260425T214211Z-7439948074863067741@eventfrog.ch
DTSTAMP:20260425T214211Z
DTSTART:20260501T170000Z
SUMMARY:Tierkommunikation Ausbildung mit Diplomabschluss
DESCRIPTION:Online-Ausbildung Tierkommunikation: 5-monatig, berufsbegleitend, individuelle Begleitung durch Eva Müller, Tierheilpraktikerin.\n\nhttps://eventfrog.ch/de/p/kurse-seminare/freizeit-hobby/tierkommunikation-ausbildung-mit-diplomabschluss-7439948074863067741.html
LOCATION:Online
URL:https://eventfrog.ch/de/p/kurse-seminare/freizeit-hobby/tierkommunikation-ausbildung-mit-diplomabschluss-7439948074863067741.html
END:VEVENT
END:VCALENDAR