BEGIN:VCALENDAR
VERSION:2.0
PRODID:EVENTFROG//EVENT//ICAL
BEGIN:VEVENT
UID:20260425T004215Z-7440038885277609983@eventfrog.ch
DTSTAMP:20260425T004215Z
DTSTART:20260425T130000Z
DTEND:20260425T140000Z
SUMMARY:Kunst, Kaffee und Kuchen
DESCRIPTION:Regelmässiger Besuch der Ausstellung «Ivana de Vivanco - Wie klingt das Weinen einer Schlange?» mit Gespräch im Café für Personen ab 60.\n\nhttps://eventfrog.ch/de/p/kunst-ausstellungen/ausstellung/kunst-kaffee-und-kuchen-7440038885277609983.html
LOCATION:Villa Merkel
GEO:48.735940;9.308030
URL:https://eventfrog.ch/de/p/kunst-ausstellungen/ausstellung/kunst-kaffee-und-kuchen-7440038885277609983.html
END:VEVENT
END:VCALENDAR