BEGIN:VCALENDAR
VERSION:2.0
PRODID:EVENTFROG//EVENT//ICAL
BEGIN:VEVENT
UID:20260419T191817Z-7440393675023078008@eventfrog.ch
DTSTAMP:20260419T191817Z
DTSTART:20260531T090000Z
DTEND:20260531T190000Z
SUMMARY:Focaccia, Spritz & Sunday Beats
DESCRIPTION:Ein genussvoller Sonntag mit apulischem Focaccia-Workshop, Cocktails und offenem Sunday Rave mit DJ — gemeinsam backen, geniessen und den Nachmittag mit guten Beats und Vibes abschliessen.\n\nhttps://eventfrog.ch/de/p/essen-trinken/focaccia-spritz-sunday-beats-7440393675023078008.html
LOCATION:Santini Bar
GEO:47.370742;8.535830
URL:https://eventfrog.ch/de/p/essen-trinken/focaccia-spritz-sunday-beats-7440393675023078008.html
END:VEVENT
END:VCALENDAR