BEGIN:VCALENDAR
VERSION:2.0
PRODID:EVENTFROG//EVENT//ICAL
BEGIN:VEVENT
UID:20260426T040634Z-7441255949178786950@eventfrog.ch
DTSTAMP:20260426T040634Z
DTSTART:20260521T160000Z
SUMMARY:La beauté de l’âne
DESCRIPTION:La beauté de l'âne\n\nhttps://eventfrog.ch/de/p/freizeit-ausfluege/la-beaute-de-lane-7441255949178786950.html
LOCATION:Kino Cameo
GEO:47.494450;8.718060
URL:https://eventfrog.ch/de/p/freizeit-ausfluege/la-beaute-de-lane-7441255949178786950.html
END:VEVENT
END:VCALENDAR