BEGIN:VCALENDAR
VERSION:2.0
PRODID:EVENTFROG//EVENT//ICAL
BEGIN:VEVENT
UID:20260426T035052Z-7441255988387169362@eventfrog.ch
DTSTAMP:20260426T035052Z
DTSTART:20260514T181500Z
SUMMARY:Las corrientes
DESCRIPTION:Las corrientes\n\nhttps://eventfrog.ch/de/p/freizeit-ausfluege/las-corrientes-7441255988387169362.html
LOCATION:Kino Cameo
GEO:47.494450;8.718060
URL:https://eventfrog.ch/de/p/freizeit-ausfluege/las-corrientes-7441255988387169362.html
END:VEVENT
END:VCALENDAR