BEGIN:VCALENDAR
VERSION:2.0
PRODID:EVENTFROG//EVENT//ICAL
BEGIN:VEVENT
UID:20260426T035103Z-7441255988559135850@eventfrog.ch
DTSTAMP:20260426T035103Z
DTSTART:20260519T160000Z
SUMMARY:Las corrientes
DESCRIPTION:Las corrientes\n\nhttps://eventfrog.ch/de/p/freizeit-ausfluege/las-corrientes-7441255988559135850.html
LOCATION:Kino Cameo
GEO:47.494450;8.718060
URL:https://eventfrog.ch/de/p/freizeit-ausfluege/las-corrientes-7441255988559135850.html
END:VEVENT
END:VCALENDAR