BEGIN:VCALENDAR
VERSION:2.0
PRODID:EVENTFROG//EVENT//ICAL
BEGIN:VEVENT
UID:20260426T022730Z-7443431765467757846@eventfrog.ch
DTSTAMP:20260426T022730Z
DTSTART:20260517T173000Z
SUMMARY:Crumbs
DESCRIPTION:Crumbs\n\nhttps://eventfrog.ch/de/p/freizeit-ausfluege/crumbs-7443431765467757846.html
LOCATION:Kino Nische
GEO:47.494551;8.707722
URL:https://eventfrog.ch/de/p/freizeit-ausfluege/crumbs-7443431765467757846.html
END:VEVENT
END:VCALENDAR