BEGIN:VCALENDAR
VERSION:2.0
PRODID:EVENTFROG//EVENT//ICAL
BEGIN:VEVENT
UID:20260426T041315Z-7444315952848623565@eventfrog.ch
DTSTAMP:20260426T041315Z
DTSTART:20260426T090000Z
DTEND:20260426T150000Z
SUMMARY:Trödelmarkt in Haiger
DESCRIPTION:Trödelmarkt ohne Neuware\n\nhttps://eventfrog.ch/de/p/maerkte/flohmarkt/troedelmarkt-in-haiger-7444315952848623565.html
LOCATION:Parkplatz Opti-Wohnwelt
GEO:50.742165;8.215140
URL:https://eventfrog.ch/de/p/maerkte/flohmarkt/troedelmarkt-in-haiger-7444315952848623565.html
END:VEVENT
END:VCALENDAR