BEGIN:VCALENDAR
VERSION:2.0
PRODID:EVENTFROG//EVENT//ICAL
BEGIN:VEVENT
UID:20260425T194334Z-7444389934394273111@eventfrog.ch
DTSTAMP:20260425T194334Z
DTSTART:20260425T173000Z
SUMMARY:Junge Bühne
DESCRIPTION:Weniger Hall und Tinnitus vom Emil-von-Behring-Gymnasium bieten einen energiegeladenen musikalischen Abend.\n\nhttps://eventfrog.ch/de/p/konzerte/pop-rock/junge-buehne-7444389934394273111.html
LOCATION:Kulturscheune Baiersdorf
GEO:49.658488;11.033133
URL:https://eventfrog.ch/de/p/konzerte/pop-rock/junge-buehne-7444389934394273111.html
END:VEVENT
END:VCALENDAR