BEGIN:VCALENDAR
VERSION:2.0
PRODID:EVENTFROG//EVENT//ICAL
BEGIN:VEVENT
UID:20260425T032824Z-7444741202405005954@eventfrog.ch
DTSTAMP:20260425T032824Z
DTSTART:20270103T170000Z
DTEND:20270103T220000Z
SUMMARY:Ritmo Habana (Salsa & Bachata)
DESCRIPTION:RITMO HABANA by DJ Theo\n\nJeden Sonntag:\nSALSA & BACHATA ALL STYLES\n\nEintritt CHF 10.–\n18.00 Uhr bis 23.00 Uhr\n\nhttps://eventfrog.ch/de/p/diverses/ritmo-habana-salsa-bachata-7444741202405005954.html
LOCATION:Moderne Bar & Karussell
GEO:47.048440;8.306079
URL:https://eventfrog.ch/de/p/diverses/ritmo-habana-salsa-bachata-7444741202405005954.html
END:VEVENT
END:VCALENDAR