BEGIN:VCALENDAR
VERSION:2.0
PRODID:EVENTFROG//EVENT//ICAL
BEGIN:VEVENT
UID:20260420T074753Z-7445009841645452164@eventfrog.ch
DTSTAMP:20260420T074753Z
DTSTART:20261205T200000Z
SUMMARY:Monochrome die Wave Party
DESCRIPTION:Dark Side of the Eighties\n\nhttps://eventfrog.ch/de/p/partys/gothic-wave/monochrome-die-wave-party-7445009841645452164.html
LOCATION:Utopia-Disco-Club
GEO:47.389672;8.052063
URL:https://eventfrog.ch/de/p/partys/gothic-wave/monochrome-die-wave-party-7445009841645452164.html
END:VEVENT
END:VCALENDAR