BEGIN:VCALENDAR
VERSION:2.0
PRODID:EVENTFROG//EVENT//ICAL
BEGIN:VEVENT
UID:20260425T175958Z-7445592945548392198@eventfrog.ch
DTSTAMP:20260425T175958Z
DTSTART:20260509T180000Z
SUMMARY:Karl Kave & Durian, Tayphoon
DESCRIPTION:Zauberberg, Plattentaufe.\n\nhttps://eventfrog.ch/de/p/konzerte/karl-kave-durian-tayphoon-7445592945548392198.html
LOCATION:Palace
GEO:47.426620;9.373120
URL:https://eventfrog.ch/de/p/konzerte/karl-kave-durian-tayphoon-7445592945548392198.html
END:VEVENT
END:VCALENDAR