BEGIN:VCALENDAR
VERSION:2.0
PRODID:EVENTFROG//EVENT//ICAL
BEGIN:VEVENT
UID:20260424T072133Z-7445794388368689207@eventfrog.ch
DTSTAMP:20260424T072133Z
DTSTART:20260425T080000Z
DTEND:20260425T110000Z
SUMMARY:Walderlebnis für die ganze Familie
DESCRIPTION:Walderlebnis für die ganze Familie\n\nhttps://eventfrog.ch/de/p/kinderveranstaltungen/familienveranstaltungen/walderlebnis-fuer-die-ganze-familie-7445794388368689207.html
LOCATION:Chalchofen
GEO:46.875269;8.252464
URL:https://eventfrog.ch/de/p/kinderveranstaltungen/familienveranstaltungen/walderlebnis-fuer-die-ganze-familie-7445794388368689207.html
END:VEVENT
END:VCALENDAR