BEGIN:VCALENDAR
VERSION:2.0
PRODID:EVENTFROG//EVENT//ICAL
BEGIN:VEVENT
UID:20260420T073418Z-7446428600616630746@eventfrog.ch
DTSTAMP:20260420T073418Z
DTSTART:20260717T170000Z
DTEND:20260718T040000Z
SUMMARY:DJ Tomekk live in Peine – 5 Jahre Herby’s Hemp Farm
DESCRIPTION:5 Jahre Herby’s Hemp Farm – feiert mit uns & DJ Tomekk live im UJZ Peine! Mit DJs & Rap-Acts. Early Bird Tickets streng limitiert!\n\nhttps://eventfrog.ch/de/p/partys/hip-hop-rap/dj-tomekk-live-in-peine-5-jahre-herbys-hemp-farm-7446428600616630746.html
LOCATION:UJZ Peine
GEO:52.308980;10.278960
URL:https://eventfrog.ch/de/p/partys/hip-hop-rap/dj-tomekk-live-in-peine-5-jahre-herbys-hemp-farm-7446428600616630746.html
END:VEVENT
END:VCALENDAR