BEGIN:VCALENDAR
VERSION:2.0
PRODID:EVENTFROG//EVENT//ICAL
BEGIN:VEVENT
UID:20260425T194333Z-7447184973163939245@eventfrog.ch
DTSTAMP:20260425T194333Z
DTSTART:20260511T150000Z
DTEND:20260511T160000Z
SUMMARY:Las Americas. Indigene Vielfalt
DESCRIPTION:Im Zentrum stehen sowohl gegenwärtige Kooperationen mit First Nations aus Kanada und Gesellschaften aus dem Amazonasgebiet als auch Objekte der Inka, Maya und Azteken.\n\nhttps://eventfrog.ch/de/p/fuehrungen-vortraege/fuehrung/las-americas-indigene-vielfalt-7447184973163939245.html
LOCATION:Humboldt Forum
GEO:52.517275;13.401640
URL:https://eventfrog.ch/de/p/fuehrungen-vortraege/fuehrung/las-americas-indigene-vielfalt-7447184973163939245.html
END:VEVENT
END:VCALENDAR