BEGIN:VCALENDAR
VERSION:2.0
PRODID:EVENTFROG//EVENT//ICAL
BEGIN:VEVENT
UID:20260425T181847Z-7447198799456405269@eventfrog.ch
DTSTAMP:20260425T181847Z
DTSTART:20260426T090000Z
DTEND:20260426T160000Z
SUMMARY:King Baboon Tarantula Welt der Riesenspinnen
DESCRIPTION:King Baboon Tarantula Welt der Riesenspinnen Eine faszinierende Riesenspinnenausstellung mit lebenden Insekten im XXXL Format. Echt, Lehrreich, faszinierend. Wissen zum anfassen\n\nhttps://eventfrog.ch/de/p/kunst-ausstellungen/ausstellung/king-baboon-tarantula-welt-der-riesenspinnen-7447198799456405269.html
LOCATION:Gemeindezentrum Münster
GEO:48.060827;8.456707
URL:https://eventfrog.ch/de/p/kunst-ausstellungen/ausstellung/king-baboon-tarantula-welt-der-riesenspinnen-7447198799456405269.html
END:VEVENT
END:VCALENDAR